BEGIN:VCALENDAR
VERSION:2.0
PRODID:-//wp-events-plugin.com//7.2.3.1//EN
TZID:Europe/Amsterdam
X-WR-TIMEZONE:Europe/Amsterdam
BEGIN:VEVENT
UID:20268@stichtingsamens.nl
DTSTART;TZID=Europe/Amsterdam:20260505T143000
DTEND;TZID=Europe/Amsterdam:20260505T163000
DTSTAMP:20260331T102431Z
URL:https://stichtingsamens.nl/activiteitenkalender/schaaktoernooi/
SUMMARY:Schaaktoernooi
DESCRIPTION:Leerlingen van de basisscholen in Abcoude hebben de afgelopen w
 eken schaaklessen gevolgd in de Buurtkamer\nAbcoude en zijn klaar voor een
  leuke uitdaging! Daarom organiseren we\, samen met de leerlingen en onze 
 vrijwilligers\,\neen schaaktoernooi. We nodigen enthousiaste schakers uit 
 De Ronde Venen uit om aan te sluiten!\n\nVoor wie? Alle inwoners uit De Ro
 nde Venen\nKosten? Deelname is gratis\nInloop vanaf 14:15 uur\nVragen? sch
 aaklesabcoude@gmail.com\n\nAanmelden t/m 21 april via https://forms.gle/eQ
 ZKK7bqNhnSXjq48\n\n\n\nKlik hier voor de Flyer: Schaaktoernooi 5 mei 2026
CATEGORIES:Huis &amp; Buurt,Je gezond voelen,Jongeren,Leren &amp;
 Ontwikkelen
LOCATION:Buurtkamer Abcoude\, Dorpszicht 22\, Abcoude\, 1391LX\, Nederland
X-APPLE-STRUCTURED-LOCATION;VALUE=URI;X-ADDRESS=Dorpszicht 22\, Abcoude\, 1
 391LX\, Nederland;X-APPLE-RADIUS=100;X-TITLE=Buurtkamer Abcoude:geo:0,0
END:VEVENT
BEGIN:VTIMEZONE
TZID:Europe/Amsterdam
X-LIC-LOCATION:Europe/Amsterdam
BEGIN:DAYLIGHT
DTSTART:20260329T030000
TZOFFSETFROM:+0100
TZOFFSETTO:+0200
TZNAME:CEST
END:DAYLIGHT
END:VTIMEZONE
END:VCALENDAR