BEGIN:VCALENDAR
VERSION:2.0
PRODID:-//wp-events-plugin.com//7.2.3.1//EN
TZID:Europe/Amsterdam
X-WR-TIMEZONE:Europe/Amsterdam
BEGIN:VEVENT
UID:18726@stichtingsamens.nl
DTSTART;TZID=Europe/Amsterdam:20280331T150000
DTEND;TZID=Europe/Amsterdam:20280331T180000
DTSTAMP:20260113T132045Z
URL:https://stichtingsamens.nl/activiteitenkalender/huiswerkcafe-abcoude-2
 026-01-16-2026-01-23-2026-01-30-2026-02-06-2026-02-13-2026-02-20-2026-02-2
 7-2026-03-06-2026-03-13-2026-03-20-2026-03-27-2026-04-03-2026-04-10-2026-0
 4-17-2026-04-24-24-2028-03-31/
SUMMARY:Huiswerkcafé Abcoude
DESCRIPTION:Gratis huiswerkondersteuning. Door vrijwilligers\, voor jongere
 n uit groep 6\, 7 en 8 &amp\; middelbare school.\n\nVergeet je eigen schoo
 lwerk niet.
CATEGORIES:Jongeren,Leren &amp; Ontwikkelen
LOCATION:Tumult Abcoude\, Kerkplein 28\, Abcoude\, 1391GK\, Nederland
X-APPLE-STRUCTURED-LOCATION;VALUE=URI;X-ADDRESS=Kerkplein 28\, Abcoude\, 13
 91GK\, Nederland;X-APPLE-RADIUS=100;X-TITLE=Tumult Abcoude:geo:0,0
END:VEVENT
BEGIN:VTIMEZONE
TZID:Europe/Amsterdam
X-LIC-LOCATION:Europe/Amsterdam
BEGIN:DAYLIGHT
DTSTART:20280326T030000
TZOFFSETFROM:+0100
TZOFFSETTO:+0200
TZNAME:CEST
END:DAYLIGHT
END:VTIMEZONE
END:VCALENDAR