BEGIN:VCALENDAR
VERSION:2.0
PRODID:-//wp-events-plugin.com//7.2.3.1//EN
TZID:Europe/Amsterdam
X-WR-TIMEZONE:Europe/Amsterdam
BEGIN:VEVENT
UID:18599@stichtingsamens.nl
DTSTART;TZID=Europe/Amsterdam:20251127T200000
DTEND;TZID=Europe/Amsterdam:20251127T210000
DTSTAMP:20251016T124959Z
URL:https://stichtingsamens.nl/activiteitenkalender/gratis-webinar-hoe-reg
 el-ik-mijn-financien-als-degene-voor-wie-ik-zorg-dit-niet-meer-kan/
SUMMARY:Gratis webinar: Hoe regel ik mijn financiën als degene voor wie ik
  zorg dit niet meer kan?
DESCRIPTION:In dit webinar word je geïnformeerd over wettelijke vertegenwo
 ordiging.\nWant wat als degene voor wie gezorgd wordt zelf geen beslissing
 en meer kan\nnemen? Hoe kan je de vertegenwoordiging regelen en zo lastige
  situaties\nvoorkomen\, bijvoorbeeld dat de bank geen toegang meer geeft t
 ot de rekening\nvan de zorgvrager omdat hiervoor niets geregeld is.\n\nLET
  OP!\n\nDeze Webinars worden verzorgd door MantelzorgNL en u moet zich aan
 melden via:\nAanmeldformulier webinars - MantelzorgNL of www.mantelzorg.nl
 /pro/aanmeldformulier-webinars/\n\nEen webinar is een workshop\, presentat
 ie of lezing die via het internet wordt\nuitgezonden. U ontvangt hiervoor 
 een link waarmee u kunt deelnemen op het\nvermelde tijdstip als u zich tij
 dig heeft aangemeld.
CATEGORIES:Je gezond voelen,Leren &amp; Ontwikkelen
END:VEVENT
BEGIN:VTIMEZONE
TZID:Europe/Amsterdam
X-LIC-LOCATION:Europe/Amsterdam
BEGIN:STANDARD
DTSTART:20251026T020000
TZOFFSETFROM:+0200
TZOFFSETTO:+0100
TZNAME:CET
END:STANDARD
END:VTIMEZONE
END:VCALENDAR