BEGIN:VCALENDAR
VERSION:2.0
PRODID:-//wp-events-plugin.com//7.2.3.1//EN
TZID:Europe/Amsterdam
X-WR-TIMEZONE:Europe/Amsterdam
BEGIN:VEVENT
UID:20270@stichtingsamens.nl
DTSTART;TZID=Europe/Amsterdam:20291022T093000
DTEND;TZID=Europe/Amsterdam:20291022T113000
DTSTAMP:20260414T094211Z
URL:https://stichtingsamens.nl/activiteitenkalender/geldpunt-3-2029-10-15-
 2029-10-22/
SUMMARY:Geldpunt
DESCRIPTION:Geldzaken zijn soms best ingewikkeld. Persoonlijke situaties ku
 nnen ervoor zorgen dat je het overzicht kwijtraakt. In het Geldpunt kun je
  gratis terecht voor informatie en advies.\n\nHet Geldpunt is elke maandag
 middag van 13.30 tot 15.30 geopend en gevestigd in De Trekvogel in Mijdrec
 ht.\n\nHet geldpunt geeft informatie en advies over de volgende zaken:\n\n
  	Budgetadvies\n 	Inkomsten-en uitgavenoverzicht\n 	Bellen met een instant
 ie\n 	Informatie en aanvragen van financiële regelingen\n 	Digitale hulp 
 zoals DigiD en berichten box\n 	Ordenen van de administratie\n 	Informatie
  en advies bij schulden\n 	Andere financiële vragen en advies\n\nMeer inf
 ormatie\n\nInformatie en advies van het Geldpunt is gratis. Voor meer info
 rmatie is Erik bereikbaar. Mailen naar het Geldpunt kan ook via:\n\ngeldpu
 nt@stichtingsamens.nl\n
CATEGORIES:Omgaan met geld
LOCATION:Bibliotheek Mijdrecht\, Doctor J. van der Haarlaan 8\, Mijdrecht\,
  3641 JW\, Nederland
X-APPLE-STRUCTURED-LOCATION;VALUE=URI;X-ADDRESS=Doctor J. van der Haarlaan 
 8\, Mijdrecht\, 3641 JW\, Nederland;X-APPLE-RADIUS=100;X-TITLE=Bibliotheek
  Mijdrecht:geo:0,0
END:VEVENT
BEGIN:VTIMEZONE
TZID:Europe/Amsterdam
X-LIC-LOCATION:Europe/Amsterdam
BEGIN:DAYLIGHT
DTSTART:20290325T030000
TZOFFSETFROM:+0100
TZOFFSETTO:+0200
TZNAME:CEST
END:DAYLIGHT
END:VTIMEZONE
END:VCALENDAR